BEGIN:VCALENDAR
VERSION:2.0
PRODID:-//AC Supply Co. - ECPv6.15.17.1//NONSGML v1.0//EN
CALSCALE:GREGORIAN
METHOD:PUBLISH
X-ORIGINAL-URL:https://www.acsupplytexas.com
X-WR-CALDESC:Events for AC Supply Co.
REFRESH-INTERVAL;VALUE=DURATION:PT1H
X-Robots-Tag:noindex
X-PUBLISHED-TTL:PT1H
BEGIN:VTIMEZONE
TZID:America/Chicago
BEGIN:DAYLIGHT
TZOFFSETFROM:-0600
TZOFFSETTO:-0500
TZNAME:CDT
DTSTART:20240310T080000
END:DAYLIGHT
BEGIN:STANDARD
TZOFFSETFROM:-0500
TZOFFSETTO:-0600
TZNAME:CST
DTSTART:20241103T070000
END:STANDARD
BEGIN:DAYLIGHT
TZOFFSETFROM:-0600
TZOFFSETTO:-0500
TZNAME:CDT
DTSTART:20250309T080000
END:DAYLIGHT
BEGIN:STANDARD
TZOFFSETFROM:-0500
TZOFFSETTO:-0600
TZNAME:CST
DTSTART:20251102T070000
END:STANDARD
BEGIN:DAYLIGHT
TZOFFSETFROM:-0600
TZOFFSETTO:-0500
TZNAME:CDT
DTSTART:20260308T080000
END:DAYLIGHT
BEGIN:STANDARD
TZOFFSETFROM:-0500
TZOFFSETTO:-0600
TZNAME:CST
DTSTART:20261101T070000
END:STANDARD
END:VTIMEZONE
BEGIN:VEVENT
DTSTART;TZID=America/Chicago:20251021T080000
DTEND;TZID=America/Chicago:20251021T110000
DTSTAMP:20260422T172619
CREATED:20250924T202706Z
LAST-MODIFIED:20251020T192850Z
UID:10912-1761033600-1761044400@www.acsupplytexas.com
SUMMARY:RGF Halo Counter Day — Arlington
DESCRIPTION:See the clean-air tech everyone’s talking about. Join Texas Reps for a hands-on RGF Halo demo\, factory tour insights\, and a walkthrough of the RGF Private Label Program. \nDate & Time: Tuesday\, October 21 • 8:00–11:00 AMLocation: AC Supply Arlington BranchWhy Attend: \n\nLive RGF Halo demonstrations & FAQs\nHow private label works for your company\nBest practices from the latest RGF factory tourPerks: Coffee\, snacks\, and contractor-only specials during the event.
URL:https://www.acsupplytexas.com/event/rgf-halo-counter-day-arlington/
LOCATION:Arlington\, 3701 New York Ave\, Arlington\, TX\, 76014\, United States
ATTACH;FMTTYPE=image/png:https://www.acsupplytexas.com/wp-content/uploads/2025/08/RGF-logo.png
END:VEVENT
END:VCALENDAR