BEGIN:VCALENDAR
VERSION:2.0
PRODID:-//AC Supply Co. - ECPv6.15.17.1//NONSGML v1.0//EN
CALSCALE:GREGORIAN
METHOD:PUBLISH
X-ORIGINAL-URL:https://www.acsupplytexas.com
X-WR-CALDESC:Events for AC Supply Co.
REFRESH-INTERVAL;VALUE=DURATION:PT1H
X-Robots-Tag:noindex
X-PUBLISHED-TTL:PT1H
BEGIN:VTIMEZONE
TZID:America/Chicago
BEGIN:DAYLIGHT
TZOFFSETFROM:-0600
TZOFFSETTO:-0500
TZNAME:CDT
DTSTART:20240310T080000
END:DAYLIGHT
BEGIN:STANDARD
TZOFFSETFROM:-0500
TZOFFSETTO:-0600
TZNAME:CST
DTSTART:20241103T070000
END:STANDARD
BEGIN:DAYLIGHT
TZOFFSETFROM:-0600
TZOFFSETTO:-0500
TZNAME:CDT
DTSTART:20250309T080000
END:DAYLIGHT
BEGIN:STANDARD
TZOFFSETFROM:-0500
TZOFFSETTO:-0600
TZNAME:CST
DTSTART:20251102T070000
END:STANDARD
BEGIN:DAYLIGHT
TZOFFSETFROM:-0600
TZOFFSETTO:-0500
TZNAME:CDT
DTSTART:20260308T080000
END:DAYLIGHT
BEGIN:STANDARD
TZOFFSETFROM:-0500
TZOFFSETTO:-0600
TZNAME:CST
DTSTART:20261101T070000
END:STANDARD
END:VTIMEZONE
BEGIN:VEVENT
DTSTART;TZID=America/Chicago:20251028T120000
DTEND;TZID=America/Chicago:20251028T140000
DTSTAMP:20260423T001339
CREATED:20250924T194156Z
LAST-MODIFIED:20250924T194156Z
UID:10890-1761652800-1761660000@www.acsupplytexas.com
SUMMARY:LG Do’s & Don’ts Lunch & Learn — Arlington Branch
DESCRIPTION:Date: Tuesday\, October 28\, 2025Time: 12:00 PM – 2:00 PMLocation: AC Supply Arlington Branch \nDescription:Take part in hands-on training with LG experts! This Lunch & Learn will highlight installation Do’s & Don’ts and give you the tools to work confidently with R32 systems. Perfect for contractors looking to stay ahead of industry changes. \nLunch is provided. Seating limited to 8 participants.
URL:https://www.acsupplytexas.com/event/lg-dos-donts-lunch-learn-arlington-branch/
LOCATION:Arlington\, 3701 New York Ave\, Arlington\, TX\, 76014\, United States
CATEGORIES:LG HVAC Academy
ATTACH;FMTTYPE=image/jpeg:https://www.acsupplytexas.com/wp-content/uploads/2025/07/hero_video_cover_img_2.jpg
END:VEVENT
END:VCALENDAR