BEGIN:VCALENDAR
VERSION:2.0
PRODID:-//AC Supply Co. - ECPv6.15.17.1//NONSGML v1.0//EN
CALSCALE:GREGORIAN
METHOD:PUBLISH
X-WR-CALNAME:AC Supply Co.
X-ORIGINAL-URL:https://www.acsupplytexas.com
X-WR-CALDESC:Events for AC Supply Co.
REFRESH-INTERVAL;VALUE=DURATION:PT1H
X-Robots-Tag:noindex
X-PUBLISHED-TTL:PT1H
BEGIN:VTIMEZONE
TZID:America/Chicago
BEGIN:DAYLIGHT
TZOFFSETFROM:-0600
TZOFFSETTO:-0500
TZNAME:CDT
DTSTART:20240310T080000
END:DAYLIGHT
BEGIN:STANDARD
TZOFFSETFROM:-0500
TZOFFSETTO:-0600
TZNAME:CST
DTSTART:20241103T070000
END:STANDARD
BEGIN:DAYLIGHT
TZOFFSETFROM:-0600
TZOFFSETTO:-0500
TZNAME:CDT
DTSTART:20250309T080000
END:DAYLIGHT
BEGIN:STANDARD
TZOFFSETFROM:-0500
TZOFFSETTO:-0600
TZNAME:CST
DTSTART:20251102T070000
END:STANDARD
BEGIN:DAYLIGHT
TZOFFSETFROM:-0600
TZOFFSETTO:-0500
TZNAME:CDT
DTSTART:20260308T080000
END:DAYLIGHT
BEGIN:STANDARD
TZOFFSETFROM:-0500
TZOFFSETTO:-0600
TZNAME:CST
DTSTART:20261101T070000
END:STANDARD
END:VTIMEZONE
BEGIN:VEVENT
DTSTART;TZID=America/Chicago:20251024T080000
DTEND;TZID=America/Chicago:20251024T100000
DTSTAMP:20260419T204632
CREATED:20250924T193202Z
LAST-MODIFIED:20250924T193202Z
UID:10884-1761292800-1761300000@www.acsupplytexas.com
SUMMARY:Uniweld Aluma-Braze Demo Day - N. Fort Worth
DESCRIPTION:See the Heat in Action!AC Supply invites you to join us for a hands-on demo of Uniweld’s Aluma-Braze – the reliable solution for joining aluminum coils and tubing.\nDuring this live event\, you’ll learn how Aluma-Braze: \n\nCreates strong\, leak-proof joints every time\nWorks with standard air/acetylene torches\nEliminates the need for messy flux or expensive specialty tools\n\nWhy Attend?\n\nWatch live brazing demos with Uniweld experts\nAsk questions and get hands-on experience\nTake advantage of exclusive demo-day pricing on Uniweld tools and brazing products\nNetwork with other HVAC professionals
URL:https://www.acsupplytexas.com/event/uniweld-aluma-braze-demo-day-n-fort-worth/
LOCATION:North Fort Worth\, 4871 N. Beach\, Fort Worth\, TX\, 76137\, United States
CATEGORIES:PRODUCT DEMONSTRATION
ATTACH;FMTTYPE=image/png:https://www.acsupplytexas.com/wp-content/uploads/2021/03/gI_61654_Uniweld_Logo.png
END:VEVENT
END:VCALENDAR