BEGIN:VCALENDAR
VERSION:2.0
PRODID:-//AC Supply Co. - ECPv6.15.17.1//NONSGML v1.0//EN
CALSCALE:GREGORIAN
METHOD:PUBLISH
X-ORIGINAL-URL:https://www.acsupplytexas.com
X-WR-CALDESC:Events for AC Supply Co.
REFRESH-INTERVAL;VALUE=DURATION:PT1H
X-Robots-Tag:noindex
X-PUBLISHED-TTL:PT1H
BEGIN:VTIMEZONE
TZID:America/Chicago
BEGIN:DAYLIGHT
TZOFFSETFROM:-0600
TZOFFSETTO:-0500
TZNAME:CDT
DTSTART:20230312T080000
END:DAYLIGHT
BEGIN:STANDARD
TZOFFSETFROM:-0500
TZOFFSETTO:-0600
TZNAME:CST
DTSTART:20231105T070000
END:STANDARD
BEGIN:DAYLIGHT
TZOFFSETFROM:-0600
TZOFFSETTO:-0500
TZNAME:CDT
DTSTART:20240310T080000
END:DAYLIGHT
BEGIN:STANDARD
TZOFFSETFROM:-0500
TZOFFSETTO:-0600
TZNAME:CST
DTSTART:20241103T070000
END:STANDARD
BEGIN:DAYLIGHT
TZOFFSETFROM:-0600
TZOFFSETTO:-0500
TZNAME:CDT
DTSTART:20250309T080000
END:DAYLIGHT
BEGIN:STANDARD
TZOFFSETFROM:-0500
TZOFFSETTO:-0600
TZNAME:CST
DTSTART:20251102T070000
END:STANDARD
END:VTIMEZONE
BEGIN:VEVENT
DTSTART;TZID=America/Chicago:20240417T120000
DTEND;TZID=America/Chicago:20240417T130000
DTSTAMP:20260421T180505
CREATED:20240319T213304Z
LAST-MODIFIED:20240416T200229Z
UID:8570-1713355200-1713358800@www.acsupplytexas.com
SUMMARY:Product Changes with A2L Refrigerants
DESCRIPTION:Want to know what the switch to A2L refrigerants means for HVAC products? Let NGH help you prepare. Join this session to better understand how A2L refrigerants will affect products and what that could mean for your business. \nTo sign up\, please fill out the form to the right. Once you submit the form\, you will receive an email and calendar invite with your registration details. \nREGISTER HERE
URL:https://www.acsupplytexas.com/event/product-changes-with-a2l-refrigerants/
LOCATION:ONLINE
CATEGORIES:Online Training
ATTACH;FMTTYPE=image/png:https://www.acsupplytexas.com/wp-content/uploads/2024/01/Frig-Charcoal4c.png
END:VEVENT
END:VCALENDAR