BEGIN:VCALENDAR
VERSION:2.0
PRODID:-//AC Supply Co. - ECPv6.15.17.1//NONSGML v1.0//EN
CALSCALE:GREGORIAN
METHOD:PUBLISH
X-WR-CALNAME:AC Supply Co.
X-ORIGINAL-URL:https://www.acsupplytexas.com
X-WR-CALDESC:Events for AC Supply Co.
REFRESH-INTERVAL;VALUE=DURATION:PT1H
X-Robots-Tag:noindex
X-PUBLISHED-TTL:PT1H
BEGIN:VTIMEZONE
TZID:America/Chicago
BEGIN:DAYLIGHT
TZOFFSETFROM:-0600
TZOFFSETTO:-0500
TZNAME:CDT
DTSTART:20250309T080000
END:DAYLIGHT
BEGIN:STANDARD
TZOFFSETFROM:-0500
TZOFFSETTO:-0600
TZNAME:CST
DTSTART:20251102T070000
END:STANDARD
BEGIN:DAYLIGHT
TZOFFSETFROM:-0600
TZOFFSETTO:-0500
TZNAME:CDT
DTSTART:20260308T080000
END:DAYLIGHT
BEGIN:STANDARD
TZOFFSETFROM:-0500
TZOFFSETTO:-0600
TZNAME:CST
DTSTART:20261101T070000
END:STANDARD
BEGIN:DAYLIGHT
TZOFFSETFROM:-0600
TZOFFSETTO:-0500
TZNAME:CDT
DTSTART:20270314T080000
END:DAYLIGHT
BEGIN:STANDARD
TZOFFSETFROM:-0500
TZOFFSETTO:-0600
TZNAME:CST
DTSTART:20271107T070000
END:STANDARD
END:VTIMEZONE
BEGIN:VEVENT
DTSTART;TZID=America/Chicago:20260302T080000
DTEND;TZID=America/Chicago:20260302T110000
DTSTAMP:20260421T190618
CREATED:20260224T202439Z
LAST-MODIFIED:20260224T202505Z
UID:11515-1772438400-1772449200@www.acsupplytexas.com
SUMMARY:Contractor Fast-Lane Tour - Downtown
DESCRIPTION:AC Supply is bringing the Contractor Fast-Lane Tour to every branch. \nIf you run a small HVAC business\, this program was built for you. \nSwing by the Fast-Lane table to get enrolled on the spot and start unlocking: \n✔ Fast-lane counter service✔ Text-to-order convenience✔ $500 instant starter credit (Net 10th)✔ Clear\, predictable pricing✔ Priority support when jobs can’t wait \nNo contracts. No commitments. Free to join. \nOur team will be onsite to answer questions and get you set up in minutes. \nTakes less than 5 minutes to enroll.
URL:https://www.acsupplytexas.com/event/contractor-fast-lane-tour-downtown/
LOCATION:Downtown\, 100 Page Ave\, Fort Worth\, TX\, 76110\, United States
ATTACH;FMTTYPE=image/jpeg:https://www.acsupplytexas.com/wp-content/uploads/2026/02/Contractor-Fast-Lane-Video-5.jpg
END:VEVENT
BEGIN:VEVENT
DTSTART;TZID=America/Chicago:20260303T080000
DTEND;TZID=America/Chicago:20260303T110000
DTSTAMP:20260421T190618
CREATED:20260224T202657Z
LAST-MODIFIED:20260302T212627Z
UID:11518-1772524800-1772535600@www.acsupplytexas.com
SUMMARY:Contractor Fast Lane Tour - Arlington
DESCRIPTION:AC Supply is bringing the Contractor Fast-Lane Tour to every branch. \nIf you run a small HVAC business\, this program was built for you. \nSwing by the Fast-Lane table to get enrolled on the spot and start unlocking: \n✔ Fast-lane counter service✔ Text-to-order convenience✔ $500 instant starter credit (Net 10th)✔ Clear\, predictable pricing✔ Priority support when jobs can’t wait \nNo contracts. No commitments. Free to join. \nOur team will be onsite to answer questions and get you set up in minutes. \n👉 Takes less than 5 minutes to enroll.
URL:https://www.acsupplytexas.com/event/contractor-fast-lane-tour-arlington/
LOCATION:Arlington\, 3701 New York Ave\, Arlington\, TX\, 76014\, United States
ATTACH;FMTTYPE=image/jpeg:https://www.acsupplytexas.com/wp-content/uploads/2026/02/Contractor-Fast-Lane-Video-5.jpg
END:VEVENT
BEGIN:VEVENT
DTSTART;TZID=America/Chicago:20260304T080000
DTEND;TZID=America/Chicago:20260304T110000
DTSTAMP:20260421T190618
CREATED:20260224T202829Z
LAST-MODIFIED:20260224T202829Z
UID:11520-1772611200-1772622000@www.acsupplytexas.com
SUMMARY:Contractor Fast Lane Tour - Westside
DESCRIPTION:AC Supply is bringing the Contractor Fast-Lane Tour to every branch. \nIf you run a small HVAC business\, this program was built for you. \nSwing by the Fast-Lane table to get enrolled on the spot and start unlocking: \n✔ Fast-lane counter service✔ Text-to-order convenience✔ $500 instant starter credit (Net 10th)✔ Clear\, predictable pricing✔ Priority support when jobs can’t wait \nNo contracts. No commitments. Free to join. \nOur team will be onsite to answer questions and get you set up in minutes. \n👉 Takes less than 5 minutes to enroll.
URL:https://www.acsupplytexas.com/event/contractor-fast-lane-tour-westside/
LOCATION:Westside\, 7714 Camp Bowie\, Fort Worth\, TX\, 76116\, United States
ATTACH;FMTTYPE=image/jpeg:https://www.acsupplytexas.com/wp-content/uploads/2026/02/Contractor-Fast-Lane-Video-5.jpg
END:VEVENT
BEGIN:VEVENT
DTSTART;TZID=America/Chicago:20260305T080000
DTEND;TZID=America/Chicago:20260305T110000
DTSTAMP:20260421T190618
CREATED:20260224T203010Z
LAST-MODIFIED:20260224T203010Z
UID:11522-1772697600-1772708400@www.acsupplytexas.com
SUMMARY:Contractor Fast Lane Tour - N. Fort Worth
DESCRIPTION:AC Supply is bringing the Contractor Fast-Lane Tour to every branch. \nIf you run a small HVAC business\, this program was built for you. \nSwing by the Fast-Lane table to get enrolled on the spot and start unlocking: \n✔ Fast-lane counter service✔ Text-to-order convenience✔ $500 instant starter credit (Net 10th)✔ Clear\, predictable pricing✔ Priority support when jobs can’t wait \nNo contracts. No commitments. Free to join. \nOur team will be onsite to answer questions and get you set up in minutes. \n👉 Takes less than 5 minutes to enroll.
URL:https://www.acsupplytexas.com/event/contractor-fast-lane-tour-n-fort-worth/
LOCATION:North Fort Worth\, 4871 N. Beach\, Fort Worth\, TX\, 76137\, United States
ATTACH;FMTTYPE=image/jpeg:https://www.acsupplytexas.com/wp-content/uploads/2026/02/Contractor-Fast-Lane-Video-5.jpg
END:VEVENT
BEGIN:VEVENT
DTSTART;TZID=America/Chicago:20260313T110000
DTEND;TZID=America/Chicago:20260313T140000
DTSTAMP:20260421T190618
CREATED:20260224T201446Z
LAST-MODIFIED:20260224T201617Z
UID:11510-1773399600-1773410400@www.acsupplytexas.com
SUMMARY:LG Trailer Tour & Customer Cook-Out – North Fort Worth
DESCRIPTION:AC Supply invites all HVAC customers to our North Fort Worth Cook-Out & LG Trailer Tour — a great opportunity to grab lunch\, connect with the AC Supply team\, and see the latest LG HVAC products up close and in action. \nStep inside the LG mobile trailer for a guided walk-through of the newest innovations\, ask questions directly to product experts\, and discover solutions you can start selling today. \nWhat to Expect: \n\nFree customer cook-out lunch\nHands-on LG trailer walkthrough\nFirst look at new LG HVAC products\nMeet your AC Supply team\nContractor networking\n\nWhether you’re already selling LG or just getting started\, this is a stop you won’t want to miss. \nLocation: AC Supply – North Fort WorthDate: Friday\, March 13Time: 11:00 AM – 1:00 PMCost: Free for HVAC customers
URL:https://www.acsupplytexas.com/event/lg-trailer-tour-customer-cook-out-north-fort-worth/
LOCATION:North Fort Worth\, 4871 N. Beach\, Fort Worth\, TX\, 76137\, United States
CATEGORIES:Spring Passport
ATTACH;FMTTYPE=image/jpeg:https://www.acsupplytexas.com/wp-content/uploads/2026/02/192BF6B1-221D-4714-A7AA-F121520E738C_1_105_c.jpeg
END:VEVENT
BEGIN:VEVENT
DTSTART;TZID=America/Chicago:20260323T080000
DTEND;TZID=America/Chicago:20260323T110000
DTSTAMP:20260421T190618
CREATED:20260210T203942Z
LAST-MODIFIED:20260210T210201Z
UID:11306-1774252800-1774263600@www.acsupplytexas.com
SUMMARY:Nu-Calgon Preseason Passport Training - Downtown
DESCRIPTION:Prepare your service team for the busy season with Nu-Calgon training at AC Supply’s Downtown Location. This Preseason Passport session focuses on chemical solutions that improve system performance\, efficiency\, and longevity. \nTopics include: \n\nCoil cleaners and maintenance treatments\nApplication techniques and safety best practices\nDiagnosing common system issues\nSelecting the right solution for each job\n\nThis training is perfect for service techs and maintenance teams looking to work smarter and deliver better results for customers. \n✔ Counts toward Preseason Passport✔ Hands-on product education✔ Food and drinks provided
URL:https://www.acsupplytexas.com/event/nu-calgon-preseason-passport-training-downtown/
LOCATION:Downtown\, 100 Page Ave\, Fort Worth\, TX\, 76110\, United States
CATEGORIES:Spring Passport
ATTACH;FMTTYPE=image/png:https://www.acsupplytexas.com/wp-content/uploads/2021/03/logo-nu-calgon.png
END:VEVENT
END:VCALENDAR