BEGIN:VCALENDAR
VERSION:2.0
PRODID:-//AC Supply Co. - ECPv6.15.17.1//NONSGML v1.0//EN
CALSCALE:GREGORIAN
METHOD:PUBLISH
X-WR-CALNAME:AC Supply Co.
X-ORIGINAL-URL:https://www.acsupplytexas.com
X-WR-CALDESC:Events for AC Supply Co.
REFRESH-INTERVAL;VALUE=DURATION:PT1H
X-Robots-Tag:noindex
X-PUBLISHED-TTL:PT1H
BEGIN:VTIMEZONE
TZID:America/Chicago
BEGIN:DAYLIGHT
TZOFFSETFROM:-0600
TZOFFSETTO:-0500
TZNAME:CDT
DTSTART:20230312T080000
END:DAYLIGHT
BEGIN:STANDARD
TZOFFSETFROM:-0500
TZOFFSETTO:-0600
TZNAME:CST
DTSTART:20231105T070000
END:STANDARD
BEGIN:DAYLIGHT
TZOFFSETFROM:-0600
TZOFFSETTO:-0500
TZNAME:CDT
DTSTART:20240310T080000
END:DAYLIGHT
BEGIN:STANDARD
TZOFFSETFROM:-0500
TZOFFSETTO:-0600
TZNAME:CST
DTSTART:20241103T070000
END:STANDARD
BEGIN:DAYLIGHT
TZOFFSETFROM:-0600
TZOFFSETTO:-0500
TZNAME:CDT
DTSTART:20250309T080000
END:DAYLIGHT
BEGIN:STANDARD
TZOFFSETFROM:-0500
TZOFFSETTO:-0600
TZNAME:CST
DTSTART:20251102T070000
END:STANDARD
END:VTIMEZONE
BEGIN:VEVENT
DTSTART;TZID=America/Chicago:20240426T113000
DTEND;TZID=America/Chicago:20240426T140000
DTSTAMP:20260424T153653
CREATED:20240229T021456Z
LAST-MODIFIED:20240308T233920Z
UID:8385-1714131000-1714140000@www.acsupplytexas.com
SUMMARY:Spring Pre-Season Fajita Fiesta
DESCRIPTION:Don’t miss out on the AC Supply Spring Pre-Season Fajita Fiesta! It’s the perfect chance to indulge in mouth-watering fajitas and get a first-hand look at the newest Milwaukee Tools. You won’t want to pass up this opportunity to socialize with great company and check out the latest and greatest products. Mark your calendars and let me know if you’re coming. I can’t wait to see you there! \nAttention all tool enthusiasts! AC Supply has some exciting news: we now stock Milwaukee Tools! These top-of-the-line products are a must-have for any serious professional tradesperson. Don’t settle for subpar tools that will only hold you back. Upgrade to Milwaukee and experience the difference for yourself. Visit us today to see our new selection and take your projects to the next level.
URL:https://www.acsupplytexas.com/event/spring-pre-season-fajita-fiesta/
LOCATION:Arlington\, 3701 New York Ave\, Arlington\, TX\, 76014\, United States
CATEGORIES:PROMOTIONS
END:VEVENT
END:VCALENDAR